
BEGIN:VCALENDAR
VERSION:2.0
PRODID:-//MarkedsPartner AS//Umbraco CMS//NO
TIMEZONE-ID:Europe/Oslo
X-WR-TIMEZONE:Europe/Oslo


BEGIN:VEVENT
UID:8fcca4508ddd424892d868f01e0ce125
URL:https://umbraco.naeringsforeningen.no/moeter/arkiv/muligheter_130921/
ORGANIZER;CN=Ola Normann:MAILTO:ola.normann@markedspartner.no
DTSTAMP:20210913T110000Z
DTSTART:20210913T110000Z
DTEND:20210913T124500Z
LAST-MODIFIED:20221031T122301Z
SUMMARY:Muligheter
DESCRIPTION:DIGITALKONFERANSE: For påmelding og mer informasjon, trykk på linken under:
X-ALT-DESC:DIGITALKONFERANSE: For p&#229;melding og mer informasjon, trykk p&#229; linken under:
LOCATION:Online
END:VEVENT


END:VCALENDAR



