
BEGIN:VCALENDAR
VERSION:2.0
PRODID:-//MarkedsPartner AS//Umbraco CMS//NO
TIMEZONE-ID:Europe/Oslo
X-WR-TIMEZONE:Europe/Oslo


BEGIN:VEVENT
UID:e4ffc660c925429ba90507a725942619
URL:https://umbraco.naeringsforeningen.no/moeter/arkiv/muligheter_120421/
ORGANIZER;CN=Ola Normann:MAILTO:ola.normann@markedspartner.no
DTSTAMP:20210412T110000Z
DTSTART:20210412T110000Z
DTEND:20210412T120000Z
LAST-MODIFIED:20221031T121034Z
SUMMARY:Muligheter: For jobbsøkere med erfaring
DESCRIPTION:DIGITALKONFERANSE: Mange arbeidssøkere har lang erfaring og høy utdanning, og møter argumenter som «overkvalifisert». Noen har lang erfaring og kan mye, men ingen formell utdanning og møter andre argumenter. Hvordan bør den voksne delen av arbeidssøkerne møte markedet for å selge seg som en attraktiv kandidat?
X-ALT-DESC:DIGITALKONFERANSE: Mange arbeidss&#248;kere har lang erfaring og h&#248;y utdanning, og m&#248;ter argumenter som &#171;overkvalifisert&#187;. Noen har lang erfaring og kan mye, men ingen formell utdanning og m&#248;ter andre argumenter. Hvordan b&#248;r den voksne delen av arbeidss&#248;kerne m&#248;te markedet for &#229; selge seg som en attraktiv kandidat?
LOCATION:Online
END:VEVENT


END:VCALENDAR



