
BEGIN:VCALENDAR
VERSION:2.0
PRODID:-//MarkedsPartner AS//Umbraco CMS//NO
TIMEZONE-ID:Europe/Oslo
X-WR-TIMEZONE:Europe/Oslo


BEGIN:VEVENT
UID:bbad79bd534243d08e862fba9b14a575
URL:https://umbraco.naeringsforeningen.no/moeter/arkiv/muligheter_081121/
ORGANIZER;CN=Ola Normann:MAILTO:ola.normann@markedspartner.no
DTSTAMP:20211108T120000Z
DTSTART:20211108T120000Z
DTEND:20211108T131500Z
LAST-MODIFIED:20221031T122908Z
SUMMARY:Muligheter: Hva skjer i Industrien?
DESCRIPTION:DIGITALKONFERANSE: Hva skjer i industrien? Hvilken kompetanse er det behov for på kort sikt og på litt lenger sikt? Denne Muligheter-sendingen fokuserer på nettopp mulighetene i industrien.
X-ALT-DESC:DIGITALKONFERANSE: Hva skjer i industrien? Hvilken kompetanse er det behov for p&#229; kort sikt og p&#229; litt lenger sikt? Denne Muligheter-sendingen fokuserer p&#229; nettopp mulighetene i industrien.
LOCATION:Online
END:VEVENT


END:VCALENDAR



