
BEGIN:VCALENDAR
VERSION:2.0
PRODID:-//MarkedsPartner AS//Umbraco CMS//NO
TIMEZONE-ID:Europe/Oslo
X-WR-TIMEZONE:Europe/Oslo


BEGIN:VEVENT
UID:966e6c1a8fc74e49949b19356b398054
URL:https://umbraco.naeringsforeningen.no/moeter/arkiv/muligheter-vekstnaeringer_-180121/
ORGANIZER;CN=Ola Normann:MAILTO:ola.normann@markedspartner.no
DTSTAMP:20210118T120000Z
DTSTART:20210118T120000Z
DTEND:20210118T131500Z
LAST-MODIFIED:20221031T115959Z
SUMMARY:Muligheter: Hvor er de nye jobbene?
DESCRIPTION:DIGITALKONFERANSE: Det skjer mye spennende i Rogaland for tiden, både på land og til havs. I hvilke bransjer forventes det rekruttering, og hvilken kompetanse er det behov for?
X-ALT-DESC:DIGITALKONFERANSE: Det skjer mye spennende i Rogaland for tiden, b&#229;de p&#229; land og til havs. I hvilke bransjer forventes det rekruttering, og hvilken kompetanse er det behov for?
LOCATION:Digital konferanse
END:VEVENT


END:VCALENDAR



