
BEGIN:VCALENDAR
VERSION:2.0
PRODID:-//MarkedsPartner AS//Umbraco CMS//NO
TIMEZONE-ID:Europe/Oslo
X-WR-TIMEZONE:Europe/Oslo


BEGIN:VEVENT
UID:c5e505393e8b48cab33706f0d1a58be4
URL:https://umbraco.naeringsforeningen.no/moeter/arkiv/muligheter-valg-2021_060921/
ORGANIZER;CN=Ola Normann:MAILTO:ola.normann@markedspartner.no
DTSTAMP:20210906T110000Z
DTSTART:20210906T110000Z
DTEND:20210906T121500Z
LAST-MODIFIED:20221031T122256Z
SUMMARY:Muligheter: Valg 2021
DESCRIPTION:DIGITALKONFERANSE: Har du ikke bestemt deg enda for hva du skal stemme på under årets valg? Følg med på denne sendingen så kanskje du får gjort deg opp en mening.
X-ALT-DESC:DIGITALKONFERANSE: Har du ikke bestemt deg enda for hva du skal stemme p&#229; under &#229;rets valg? F&#248;lg med p&#229; denne sendingen s&#229; kanskje du f&#229;r gjort deg opp en mening.
LOCATION:Online
END:VEVENT


END:VCALENDAR



