
BEGIN:VCALENDAR
VERSION:2.0
PRODID:-//MarkedsPartner AS//Umbraco CMS//NO
TIMEZONE-ID:Europe/Oslo
X-WR-TIMEZONE:Europe/Oslo


BEGIN:VEVENT
UID:2d3c1ac1b3784e298a185de9db963550
URL:https://umbraco.naeringsforeningen.no/moeter/arkiv/muligheter-utdanning-innen-bygg-anlegg-og-maritim-sektor_100521/
ORGANIZER;CN=Ola Normann:MAILTO:ola.normann@markedspartner.no
DTSTAMP:20210510T110000Z
DTSTART:20210510T110000Z
DTEND:20210510T121500Z
LAST-MODIFIED:20221031T121550Z
SUMMARY:Muligheter: Utdanning innen bygg, anlegg og maritim sektor
DESCRIPTION:DIGITALKONFERANSE: Norge trenger flere arbeidsplasser og i dagens sending vil vi presentere noen av de store prosjektene innen bygg & anlegg som kommer i nær fremtid eller som er i støpeskjeen i fylket vårt. I tillegg setter vi fokus på maritim sektor. Hvordan får man seg jobb i disse bransjene, hva må til?
X-ALT-DESC:DIGITALKONFERANSE: Norge trenger flere arbeidsplasser og i dagens sending vil vi presentere noen av de store prosjektene innen bygg &amp; anlegg som kommer i n&#230;r fremtid eller som er i st&#248;peskjeen i fylket v&#229;rt. I tillegg setter vi fokus p&#229; maritim sektor. Hvordan f&#229;r man seg jobb i disse bransjene, hva m&#229; til?
LOCATION:Digitalt
END:VEVENT


END:VCALENDAR



