
BEGIN:VCALENDAR
VERSION:2.0
PRODID:-//MarkedsPartner AS//Umbraco CMS//NO
TIMEZONE-ID:Europe/Oslo
X-WR-TIMEZONE:Europe/Oslo


BEGIN:VEVENT
UID:06e1adfc97454665856e556bfe772a04
URL:https://umbraco.naeringsforeningen.no/moeter/arkiv/muligheter-transportbransjen-naa-og-i-fremtiden_230821/
ORGANIZER;CN=Ola Normann:MAILTO:ola.normann@markedspartner.no
DTSTAMP:20210823T110000Z
DTSTART:20210823T110000Z
DTEND:20210823T120000Z
LAST-MODIFIED:20221031T122159Z
SUMMARY:Muligheter: Transportbransjen nå og i fremtiden
DESCRIPTION:DIGITALKONFERANSE: I likhet med resten av samfunnet, har store deler av norsk transportnæring hatt det veldig tøft under koronaepidemien. Både små og store bedrifter sliter med å få endene til å møtes, og mange er på grensen til konkurs. Hvordan ser fremtiden ut og hvilke muligheter finnes det i denne meget varierte, innovative  og store bransjen?
X-ALT-DESC:DIGITALKONFERANSE: I likhet med resten av samfunnet, har store deler av norsk transportn&#230;ring hatt det veldig t&#248;ft under koronaepidemien. B&#229;de sm&#229; og store bedrifter sliter med &#229; f&#229; endene til &#229; m&#248;tes, og mange er p&#229; grensen til konkurs. Hvordan ser fremtiden ut og hvilke muligheter finnes det i denne meget varierte, innovative  og store bransjen?
LOCATION:Online
END:VEVENT


END:VCALENDAR



