
BEGIN:VCALENDAR
VERSION:2.0
PRODID:-//MarkedsPartner AS//Umbraco CMS//NO
TIMEZONE-ID:Europe/Oslo
X-WR-TIMEZONE:Europe/Oslo


BEGIN:VEVENT
UID:1e743cf71d204a289632264156761eb6
URL:https://umbraco.naeringsforeningen.no/moeter/arkiv/muligheter-teknologi_041021/
ORGANIZER;CN=Ola Normann:MAILTO:ola.normann@markedspartner.no
DTSTAMP:20211004T110000Z
DTSTART:20211004T110000Z
DTEND:20211004T120000Z
LAST-MODIFIED:20221031T122517Z
SUMMARY:Muligheter: Teknologi
DESCRIPTION:DIGITALKONFERANSE: Hva skjer innen teknologibransjen? Hvilken kompetanse er det behov for nå og i fremtiden. Utviklingen skjer raskt i denne bransjen og det er ikke alltid like lett å følge med.
X-ALT-DESC:DIGITALKONFERANSE: Hva skjer innen teknologibransjen? Hvilken kompetanse er det behov for n&#229; og i fremtiden. Utviklingen skjer raskt i denne bransjen og det er ikke alltid like lett &#229; f&#248;lge med.
LOCATION:Online
END:VEVENT


END:VCALENDAR



