
BEGIN:VCALENDAR
VERSION:2.0
PRODID:-//MarkedsPartner AS//Umbraco CMS//NO
TIMEZONE-ID:Europe/Oslo
X-WR-TIMEZONE:Europe/Oslo


BEGIN:VEVENT
UID:b1445e09137841ed9535bb1825def122
URL:https://umbraco.naeringsforeningen.no/moeter/arkiv/muligheter-starte-egen-virksomhet_080321/
ORGANIZER;CN=Ola Normann:MAILTO:ola.normann@markedspartner.no
DTSTAMP:20210308T120000Z
DTSTART:20210308T120000Z
DTEND:20210308T131500Z
LAST-MODIFIED:20221031T120716Z
SUMMARY:Muligheter: Vil du starte egen virksomhet?
DESCRIPTION:DIGITALKONFERANSE: Har du en drøm om å starte egen virksomhet? Vil du skape nye muligheter? Delta på dagens MULIGHETER og få råd og veiledning om hvordan du bør gå frem for å lykkes.
X-ALT-DESC:DIGITALKONFERANSE: Har du en dr&#248;m om &#229; starte egen virksomhet? Vil du skape nye muligheter? Delta p&#229; dagens MULIGHETER og f&#229; r&#229;d og veiledning om hvordan du b&#248;r g&#229; frem for &#229; lykkes.
LOCATION:Online
END:VEVENT


END:VCALENDAR



