
BEGIN:VCALENDAR
VERSION:2.0
PRODID:-//MarkedsPartner AS//Umbraco CMS//NO
TIMEZONE-ID:Europe/Oslo
X-WR-TIMEZONE:Europe/Oslo


BEGIN:VEVENT
UID:7e148cd0a3524ddfba479a381a69f5ba
URL:https://umbraco.naeringsforeningen.no/moeter/arkiv/muligheter-salg-service_300821/
ORGANIZER;CN=Ola Normann:MAILTO:ola.normann@markedspartner.no
DTSTAMP:20210830T110000Z
DTSTART:20210830T110000Z
DTEND:20210830T120000Z
LAST-MODIFIED:20221031T122242Z
SUMMARY:Muligheter: Salg & service
DESCRIPTION:DIGITALKONFERANSE: Salg og servicefaget handler blant annet om salg, markedsføring, samhandling og lønnsom drift. Man må også være en menneskekjenner og gjerne se behov som er nødvendige før de oppstår.
X-ALT-DESC:DIGITALKONFERANSE: Salg og servicefaget handler blant annet om salg, markedsf&#248;ring, samhandling og l&#248;nnsom drift. Man m&#229; ogs&#229; v&#230;re en menneskekjenner og gjerne se behov som er n&#248;dvendige f&#248;r de oppst&#229;r.
LOCATION:Online
END:VEVENT


END:VCALENDAR



