
BEGIN:VCALENDAR
VERSION:2.0
PRODID:-//MarkedsPartner AS//Umbraco CMS//NO
TIMEZONE-ID:Europe/Oslo
X-WR-TIMEZONE:Europe/Oslo


BEGIN:VEVENT
UID:28e0b95b4ce7439d83d75a2f98ae7a9e
URL:https://umbraco.naeringsforeningen.no/moeter/arkiv/muligheter-reiseliv_030521/
ORGANIZER;CN=Ola Normann:MAILTO:ola.normann@markedspartner.no
DTSTAMP:20210503T110000Z
DTSTART:20210503T110000Z
DTEND:20210503T121500Z
LAST-MODIFIED:20221031T121359Z
SUMMARY:Muligheter: Hvordan er fremtidsutsiktene i reiselivet?
DESCRIPTION:Et år med Covid-19 har gitt reiselivsbransjen store utfordringer og bransjen har absolutt måtte tåle å takle utfordringer etter utfordringer med stadige nye restriksjoner og påbud å forholde seg til. Hvordan er nåsituasjonen for bransjen, hva vil bli annerledes i fremtiden og hva vil dette si i forhold til nye arbeidsplasser?
X-ALT-DESC:Et &#229;r med Covid-19 har gitt reiselivsbransjen store utfordringer og bransjen har absolutt m&#229;tte t&#229;le &#229; takle utfordringer etter utfordringer med stadige nye restriksjoner og p&#229;bud &#229; forholde seg til. Hvordan er n&#229;situasjonen for bransjen, hva vil bli annerledes i fremtiden og hva vil dette si i forhold til nye arbeidsplasser?
LOCATION:Webinar
END:VEVENT


END:VCALENDAR



