
BEGIN:VCALENDAR
VERSION:2.0
PRODID:-//MarkedsPartner AS//Umbraco CMS//NO
TIMEZONE-ID:Europe/Oslo
X-WR-TIMEZONE:Europe/Oslo


BEGIN:VEVENT
UID:e5656e4a471e40bea2b7cdb80c991ea5
URL:https://umbraco.naeringsforeningen.no/moeter/arkiv/muligheter-reiseliv-og-service_011121/
ORGANIZER;CN=Ola Normann:MAILTO:ola.normann@markedspartner.no
DTSTAMP:20211101T120000Z
DTSTART:20211101T120000Z
DTEND:20211101T133000Z
LAST-MODIFIED:20221031T122841Z
SUMMARY:Muligheter: En fremtid i service-, handels- og reiselivsfaget?
DESCRIPTION:DIGITALKONFERANSE: Et år med Covid-19 har gitt mange meget store utfordringer og reiselivet, varehandelen og servicebransjen har absolutt måtte tåle å takle utfordringer etter utfordringer med stadige nye restriksjoner og påbud å forholde seg til. Hvordan er nåsituasjonen for bransjen, hva vil bli annerledes i fremtiden og hva vil dette si i forhold til nye arbeidsplasser?
X-ALT-DESC:DIGITALKONFERANSE: Et &#229;r med Covid-19 har gitt mange meget store utfordringer og reiselivet, varehandelen og servicebransjen har absolutt m&#229;tte t&#229;le &#229; takle utfordringer etter utfordringer med stadige nye restriksjoner og p&#229;bud &#229; forholde seg til. Hvordan er n&#229;situasjonen for bransjen, hva vil bli annerledes i fremtiden og hva vil dette si i forhold til nye arbeidsplasser?
LOCATION:Online
END:VEVENT


END:VCALENDAR



