
BEGIN:VCALENDAR
VERSION:2.0
PRODID:-//MarkedsPartner AS//Umbraco CMS//NO
TIMEZONE-ID:Europe/Oslo
X-WR-TIMEZONE:Europe/Oslo


BEGIN:VEVENT
UID:85afd807d3a643738b81fa09c4fca260
URL:https://umbraco.naeringsforeningen.no/moeter/arkiv/muligheter-nyttige-fakta-og-gode-tips_070621/
ORGANIZER;CN=Ola Normann:MAILTO:ola.normann@markedspartner.no
DTSTAMP:20210607T110000Z
DTSTART:20210607T110000Z
DTEND:20210607T121500Z
LAST-MODIFIED:20221031T121956Z
SUMMARY:Muligheter: Nyttige fakta, gode tips og en dose inspirasjon
DESCRIPTION:DIGITALKONFERANSE: I denne sesongens siste sending av Muligheter vil vi få besøk av NAV Nord-Rogaland og NAV Sør-Rogaland som vil presentere hvilke jobber som er tilgjengelige på markedet pr idag, hvordan er nåsituasjonen? Vi får også besøk av Bjørnson Organisasjonspsykologene som skal gi oss en mental vitamininnsprøytning nå før sommeren .
X-ALT-DESC:DIGITALKONFERANSE: I denne sesongens siste sending av Muligheter vil vi f&#229; bes&#248;k av NAV Nord-Rogaland og NAV S&#248;r-Rogaland som vil presentere hvilke jobber som er tilgjengelige p&#229; markedet pr idag, hvordan er n&#229;situasjonen? Vi f&#229;r ogs&#229; bes&#248;k av Bj&#248;rnson Organisasjonspsykologene som skal gi oss en mental vitamininnspr&#248;ytning n&#229; f&#248;r sommeren .
LOCATION:Online
END:VEVENT


END:VCALENDAR



