
BEGIN:VCALENDAR
VERSION:2.0
PRODID:-//MarkedsPartner AS//Umbraco CMS//NO
TIMEZONE-ID:Europe/Oslo
X-WR-TIMEZONE:Europe/Oslo


BEGIN:VEVENT
UID:ca33b7c675094f6ba04863a00d2fd7e5
URL:https://umbraco.naeringsforeningen.no/moeter/arkiv/muligheter-livet-som-gruender_200921/
ORGANIZER;CN=Ola Normann:MAILTO:ola.normann@markedspartner.no
DTSTAMP:20210920T110000Z
DTSTART:20210920T110000Z
DTEND:20210920T120000Z
LAST-MODIFIED:20221031T122319Z
SUMMARY:Muligheter: Livet som gründer
DESCRIPTION:DIGITALKONFERANSE: Har du en drøm om å starte egen virksomhet? Vil du skape nye muligheter? Delta på dagens MULIGHETER og få råd og veiledning om hvordan du bør gå frem for å lykkes.
X-ALT-DESC:DIGITALKONFERANSE: Har du en dr&#248;m om &#229; starte egen virksomhet? Vil du skape nye muligheter? Delta p&#229; dagens MULIGHETER og f&#229; r&#229;d og veiledning om hvordan du b&#248;r g&#229; frem for &#229; lykkes.
LOCATION:Online
END:VEVENT


END:VCALENDAR



