
BEGIN:VCALENDAR
VERSION:2.0
PRODID:-//MarkedsPartner AS//Umbraco CMS//NO
TIMEZONE-ID:Europe/Oslo
X-WR-TIMEZONE:Europe/Oslo


BEGIN:VEVENT
UID:056b6c224f4c4324a01127d8e2000915
URL:https://umbraco.naeringsforeningen.no/moeter/arkiv/muligheter-karriereskift_251021/
ORGANIZER;CN=Ola Normann:MAILTO:ola.normann@markedspartner.no
DTSTAMP:20211025T110000Z
DTSTART:20211025T110000Z
DTEND:20211025T120000Z
LAST-MODIFIED:20221031T122714Z
SUMMARY:Muligheter: Kan karriereskift være noe for deg?
DESCRIPTION:DIGITALKONFERANSE: Å bytte jobb er vanskelig nok. Å bytte yrke enda vanskeligere. Veldig mange fantaserer om en helt annen karriere uten å orke å gjøre noe med det. Men ofte kan det være både riktig og klokt.
X-ALT-DESC:DIGITALKONFERANSE: &#197; bytte jobb er vanskelig nok. &#197; bytte yrke enda vanskeligere. Veldig mange fantaserer om en helt annen karriere uten &#229; orke &#229; gj&#248;re noe med det. Men ofte kan det v&#230;re b&#229;de riktig og klokt.
LOCATION:Online
END:VEVENT


END:VCALENDAR



