
BEGIN:VCALENDAR
VERSION:2.0
PRODID:-//MarkedsPartner AS//Umbraco CMS//NO
TIMEZONE-ID:Europe/Oslo
X-WR-TIMEZONE:Europe/Oslo


BEGIN:VEVENT
UID:731af37ab4034ffea99932121c00cb1a
URL:https://umbraco.naeringsforeningen.no/moeter/arkiv/muligheter-jobbe-med-barn_151121/
ORGANIZER;CN=Ola Normann:MAILTO:ola.normann@markedspartner.no
DTSTAMP:20211115T120000Z
DTSTART:20211115T120000Z
DTEND:20211115T130000Z
LAST-MODIFIED:20221031T123031Z
SUMMARY:Muligheter: Jobbe med barn
DESCRIPTION:DIGITALKONFERANSE: Vet du at du vil jobbe med mennesker? Men er usikker på om du vil jobbe med barn eller voksne? Kanskje dagens sending kan hjelpe deg på rett spor! Kanskje det er mulig å kombinere det også?
X-ALT-DESC:DIGITALKONFERANSE: Vet du at du vil jobbe med mennesker? Men er usikker p&#229; om du vil jobbe med barn eller voksne? Kanskje dagens sending kan hjelpe deg p&#229; rett spor! Kanskje det er mulig &#229; kombinere det ogs&#229;?
LOCATION:Online
END:VEVENT


END:VCALENDAR



