
BEGIN:VCALENDAR
VERSION:2.0
PRODID:-//MarkedsPartner AS//Umbraco CMS//NO
TIMEZONE-ID:Europe/Oslo
X-WR-TIMEZONE:Europe/Oslo


BEGIN:VEVENT
UID:5358ba4c73e24f89ba46a109c3ca2a0c
URL:https://umbraco.naeringsforeningen.no/moeter/arkiv/muligheter-intervjuteknikk_080221/
ORGANIZER;CN=Ola Normann:MAILTO:ola.normann@markedspartner.no
DTSTAMP:20210208T120000Z
DTSTART:20210208T120000Z
DTEND:20210208T133000Z
LAST-MODIFIED:20221031T120409Z
SUMMARY:Muligheter: Hvordan gjøre et godt intervju?
DESCRIPTION:DIGITALKONFERANSE: Skal du på jobbintervju er det lurt å forberede seg. Men hva bør du forberede deg på? Og hvordan kan du vise dine ambisjoner og kompetanse på best mulig måte under intervjuet? Bli med på digitalkonferanse og få kloke tips og råd.
X-ALT-DESC:DIGITALKONFERANSE: Skal du p&#229; jobbintervju er det lurt &#229; forberede seg. Men hva b&#248;r du forberede deg p&#229;? Og hvordan kan du vise dine ambisjoner og kompetanse p&#229; best mulig m&#229;te under intervjuet? Bli med p&#229; digitalkonferanse og f&#229; kloke tips og r&#229;d.
LOCATION:Online
END:VEVENT


END:VCALENDAR



