
BEGIN:VCALENDAR
VERSION:2.0
PRODID:-//MarkedsPartner AS//Umbraco CMS//NO
TIMEZONE-ID:Europe/Oslo
X-WR-TIMEZONE:Europe/Oslo


BEGIN:VEVENT
UID:6e7972a68c754308ab4275e97c967b77
URL:https://umbraco.naeringsforeningen.no/moeter/arkiv/muligheter-hva-skal-vi-leve-av-etter-oljaa_221121/
ORGANIZER;CN=Ola Normann:MAILTO:ola.normann@markedspartner.no
DTSTAMP:20211122T110000Z
DTSTART:20211122T110000Z
DTEND:20211122T120000Z
LAST-MODIFIED:20221031T123055Z
SUMMARY:Muligheter: Hva skal vi leve av etter oljå?
DESCRIPTION:DIGITALKONFERANSE: Begrepet "etter oljå" er et ofte brukt og også overbrukt begrep. Hva vi skal leve av på lengre sikt jobbes det med basert på en metode som omtales som Smart Spesialisering.
X-ALT-DESC:DIGITALKONFERANSE: Begrepet &quot;etter olj&#229;&quot; er et ofte brukt og ogs&#229; overbrukt begrep. Hva vi skal leve av p&#229; lengre sikt jobbes det med basert p&#229; en metode som omtales som Smart Spesialisering.
LOCATION:Online
END:VEVENT


END:VCALENDAR



