
BEGIN:VCALENDAR
VERSION:2.0
PRODID:-//MarkedsPartner AS//Umbraco CMS//NO
TIMEZONE-ID:Europe/Oslo
X-WR-TIMEZONE:Europe/Oslo


BEGIN:VEVENT
UID:a82fe0e3d4b84b299d6dd966ad14ec88
URL:https://umbraco.naeringsforeningen.no/moeter/arkiv/muligheter-haugesund_181021/
ORGANIZER;CN=Ola Normann:MAILTO:ola.normann@markedspartner.no
DTSTAMP:20211018T110000Z
DTSTART:20211018T110000Z
DTEND:20211018T121500Z
LAST-MODIFIED:20221031T122628Z
SUMMARY:Muligheter: Jobbsøk & CV
DESCRIPTION:DIGITALKONFERANSE: For påmelding og mer informasjon, trykk på linken under:
X-ALT-DESC:DIGITALKONFERANSE: For p&#229;melding og mer informasjon, trykk p&#229; linken under:
LOCATION:Online
END:VEVENT


END:VCALENDAR



