
BEGIN:VCALENDAR
VERSION:2.0
PRODID:-//MarkedsPartner AS//Umbraco CMS//NO
TIMEZONE-ID:Europe/Oslo
X-WR-TIMEZONE:Europe/Oslo


BEGIN:VEVENT
UID:190141ddf9b446b3b0b7618e545bf0d0
URL:https://umbraco.naeringsforeningen.no/moeter/arkiv/muligheter-haugesund_061221/
ORGANIZER;CN=Ola Normann:MAILTO:ola.normann@markedspartner.no
DTSTAMP:20211206T120000Z
DTSTART:20211206T120000Z
DTEND:20211206T130000Z
LAST-MODIFIED:20221031T123240Z
SUMMARY:Muligheter: Hold motet oppe!
DESCRIPTION:DIGITALKONFERANSE: Å være ledig er en krevende situasjon, spesielt når ledigheten strekker seg over lengre tid. I denne sendingen fokuserer vi blant annet på hvordan du kan unngå hindringer i forhold til å få jobb, overvinne frykt, og i større grad få kontroll på egne tanker; Altså en «verktøykasse» med gode tips i årets siste sending av Muligheter.
X-ALT-DESC:DIGITALKONFERANSE: &#197; v&#230;re ledig er en krevende situasjon, spesielt n&#229;r ledigheten strekker seg over lengre tid. I denne sendingen fokuserer vi blant annet p&#229; hvordan du kan unng&#229; hindringer i forhold til &#229; f&#229; jobb, overvinne frykt, og i st&#248;rre grad f&#229; kontroll p&#229; egne tanker; Alts&#229; en &#171;verkt&#248;ykasse&#187; med gode tips i &#229;rets siste sending av Muligheter.
LOCATION:Online
END:VEVENT


END:VCALENDAR



