
BEGIN:VCALENDAR
VERSION:2.0
PRODID:-//MarkedsPartner AS//Umbraco CMS//NO
TIMEZONE-ID:Europe/Oslo
X-WR-TIMEZONE:Europe/Oslo


BEGIN:VEVENT
UID:44814eae36cb4ca5b6ac1867790df8a8
URL:https://umbraco.naeringsforeningen.no/moeter/arkiv/muligheter-grip-sjansen-paa-en-ny-vaar-_291121/
ORGANIZER;CN=Ola Normann:MAILTO:ola.normann@markedspartner.no
DTSTAMP:20211129T120000Z
DTSTART:20211129T120000Z
DTEND:20211129T131500Z
LAST-MODIFIED:20221031T123227Z
SUMMARY:Muligheter: Grip sjansen på en ny vår!
DESCRIPTION:DIGITALKONFERANSE: For arbeidsledige eller for deg som kanskje vil bytte beite finnes det mange alternativer. Prosjektet "Menn i helse" er et populært tiltak og snart tar de imot søknader igjen. Fretex Jobb AS jobber hver dag for at du som ønsker det skal få nye muligheter, det å ha en jobb betyr mye for de fleste av oss.
X-ALT-DESC:DIGITALKONFERANSE: For arbeidsledige eller for deg som kanskje vil bytte beite finnes det mange alternativer. Prosjektet &quot;Menn i helse&quot; er et popul&#230;rt tiltak og snart tar de imot s&#248;knader igjen. Fretex Jobb AS jobber hver dag for at du som &#248;nsker det skal f&#229; nye muligheter, det &#229; ha en jobb betyr mye for de fleste av oss.
LOCATION:Online
END:VEVENT


END:VCALENDAR



