
BEGIN:VCALENDAR
VERSION:2.0
PRODID:-//MarkedsPartner AS//Umbraco CMS//NO
TIMEZONE-ID:Europe/Oslo
X-WR-TIMEZONE:Europe/Oslo


BEGIN:VEVENT
UID:ff8dcaf7717141049718862345475fbe
URL:https://umbraco.naeringsforeningen.no/moeter/arkiv/muligheter-gode-tips-i-jobbsoekerprosessen_310521/
ORGANIZER;CN=Ola Normann:MAILTO:ola.normann@markedspartner.no
DTSTAMP:20210531T110000Z
DTSTART:20210531T110000Z
DTEND:20210531T121500Z
LAST-MODIFIED:20221031T121824Z
SUMMARY:Muligheter: Gode tips i jobbsøkerprosessen
DESCRIPTION:DIGITALKONFERANSE: Er du jobbsøker er det mange ting du må tenke på. Men hva bør du fokusere mest på? Hvordan kan du vise dine ambisjoner og kompetanse på best mulig måte både i jobbsøkerprosessen og under selve intervjuet? Bli med på digitalkonferanse og få kloke tips og råd.
X-ALT-DESC:DIGITALKONFERANSE: Er du jobbs&#248;ker er det mange ting du m&#229; tenke p&#229;. Men hva b&#248;r du fokusere mest p&#229;? Hvordan kan du vise dine ambisjoner og kompetanse p&#229; best mulig m&#229;te b&#229;de i jobbs&#248;kerprosessen og under selve intervjuet? Bli med p&#229; digitalkonferanse og f&#229; kloke tips og r&#229;d.
LOCATION:Online
END:VEVENT


END:VCALENDAR



