
BEGIN:VCALENDAR
VERSION:2.0
PRODID:-//MarkedsPartner AS//Umbraco CMS//NO
TIMEZONE-ID:Europe/Oslo
X-WR-TIMEZONE:Europe/Oslo


BEGIN:VEVENT
UID:d62347b822a743d8b3299ee8b3f3c4ae
URL:https://umbraco.naeringsforeningen.no/moeter/arkiv/mor-konferansen-2024/
ORGANIZER;CN=Ola Normann:MAILTO:ola.normann@markedspartner.no
DTSTAMP:20240905T070000Z
DTSTART:20240905T070000Z
DTEND:20240906T120000Z
LAST-MODIFIED:20240913T132318Z
SUMMARY:MOR-konferansen 2024: Kompetanseutvikling i ei ny tid
DESCRIPTION:Kva for fortrinn kan KI gje arbeidslivet i Ryfylke? Årets konferanse, den 9. i rekka, blir svært spennande! I år skal me setje kunstig intelligens (KI) som det overordna temaet og sjå nærmare på korleis me kan bruka KI i å styrkja Ryfylke. Blant foredragshaldarane er humorist og KI-ekspert Anne-Kat Hærland, Brynjar Andersen Saus, prosjektleiar Tromsø Arctic Simulation Centre og Ben Martin fra HKS inc.
X-ALT-DESC:Kva for fortrinn kan KI gje arbeidslivet i Ryfylke? &#197;rets konferanse, den 9. i rekka, blir sv&#230;rt spennande! I &#229;r skal me setje kunstig intelligens (KI) som det overordna temaet og sj&#229; n&#230;rmare p&#229; korleis me kan bruka KI i &#229; styrkja Ryfylke. Blant foredragshaldarane er humorist og KI-ekspert Anne-Kat H&#230;rland, Brynjar Andersen Saus, prosjektleiar Troms&#248; Arctic Simulation Centre og Ben Martin fra HKS inc.
LOCATION:Suldal kulturhus, Sand
END:VEVENT


END:VCALENDAR



