
BEGIN:VCALENDAR
VERSION:2.0
PRODID:-//MarkedsPartner AS//Umbraco CMS//NO
TIMEZONE-ID:Europe/Oslo
X-WR-TIMEZONE:Europe/Oslo


BEGIN:VEVENT
UID:e4a4c38072454af391a5a98ed777132a
URL:https://umbraco.naeringsforeningen.no/moeter/arkiv/mor-konferansen-2023/
ORGANIZER;CN=Ola Normann:MAILTO:ola.normann@markedspartner.no
DTSTAMP:20230831T073000Z
DTSTART:20230831T073000Z
DTEND:20230901T133000Z
LAST-MODIFIED:20230901T061834Z
SUMMARY:MOR-konferansen 2023
DESCRIPTION:Velkommen til den 8. kompetansekonferansen, som i år har fått tittelen «Kompetanse og rekruttering - heng det saman?»
X-ALT-DESC:Velkommen til den 8. kompetansekonferansen, som i &#229;r har f&#229;tt tittelen &#171;Kompetanse og rekruttering - heng det saman?&#187;
LOCATION:Folkets Hus i Sauda
END:VEVENT


END:VCALENDAR



