
BEGIN:VCALENDAR
VERSION:2.0
PRODID:-//MarkedsPartner AS//Umbraco CMS//NO
TIMEZONE-ID:Europe/Oslo
X-WR-TIMEZONE:Europe/Oslo


BEGIN:VEVENT
UID:7683862d784344a991e0999660eac8ff
URL:https://umbraco.naeringsforeningen.no/moeter/arkiv/mor-konferansen-2022/
ORGANIZER;CN=Ola Normann:MAILTO:ola.normann@markedspartner.no
DTSTAMP:20220922T070000Z
DTSTART:20220922T070000Z
DTEND:20220922T110000Z
LAST-MODIFIED:20221031T115737Z
SUMMARY:MOR-konferansen 2022
DESCRIPTION:Velkommen til MOR-konferansen, som i år har fått tittelen «Kompetanseutvikling og verdiskaping – me må gjera det saman».
X-ALT-DESC:Velkommen til MOR-konferansen, som i &#229;r har f&#229;tt tittelen &#171;Kompetanseutvikling og verdiskaping – me m&#229; gjera det saman&#187;.
LOCATION:Strand videreg&#229;ende skole/Tau kyrkje
END:VEVENT


END:VCALENDAR



