
BEGIN:VCALENDAR
VERSION:2.0
PRODID:-//MarkedsPartner AS//Umbraco CMS//NO
TIMEZONE-ID:Europe/Oslo
X-WR-TIMEZONE:Europe/Oslo


BEGIN:VEVENT
UID:3de45988c16145d49c1a76be1f4f1eea
URL:https://umbraco.naeringsforeningen.no/moeter/arkiv/mineralmoete-i-dalane_270921/
ORGANIZER;CN=Ola Normann:MAILTO:ola.normann@markedspartner.no
DTSTAMP:20210927T070000Z
DTSTART:20210927T070000Z
DTEND:20210927T100000Z
LAST-MODIFIED:20221031T122421Z
SUMMARY:Status og muligheter for mineralforekomster i Dalane
DESCRIPTION:Arbeidet med kartlegging av mineralforekomstene i Dalane foregår for fullt og er nå inne i fase to av prosessen.
X-ALT-DESC:Arbeidet med kartlegging av mineralforekomstene i Dalane foreg&#229;r for fullt og er n&#229; inne i fase to av prosessen.
LOCATION:Langholmen, Langholmveien 6, Egersund
END:VEVENT


END:VCALENDAR



