
BEGIN:VCALENDAR
VERSION:2.0
PRODID:-//MarkedsPartner AS//Umbraco CMS//NO
TIMEZONE-ID:Europe/Oslo
X-WR-TIMEZONE:Europe/Oslo


BEGIN:VEVENT
UID:7e602b52d2aa4c53b8e4cc4e330ac4b4
URL:https://umbraco.naeringsforeningen.no/moeter/arkiv/merkur-market_031220/
ORGANIZER;CN=Ola Normann:MAILTO:ola.normann@markedspartner.no
DTSTAMP:20201203T120000Z
DTSTART:20201203T120000Z
DTEND:20201203T131000Z
LAST-MODIFIED:20221031T115557Z
SUMMARY:Euronext Growth Oslo – luftslott eller virkelighet?
DESCRIPTION:DIGITALKONFERANSE: Merkur Market blir nå til Euronext Growth Oslo. Hva er Euronext Growth Oslo? Hvorfor svinger aksjene så mye og hva tror markedene på?  Bli med oss og hør hvorfor Zaptec valgte Merkur og hvordan prosessen har vært, og hvordan Oslo Børs og tilretteleggerne jobber både nasjonalt og internasjonalt. Vi får besøk av Anders Thingbø fra Zaptec, Eirik Høiby Ausland fra Oslo Børs, samt Morten Enoksen og Håkon Haugsbø fra ABG Sundal Collier.
X-ALT-DESC:DIGITALKONFERANSE: Merkur Market blir n&#229; til Euronext Growth Oslo. Hva er Euronext Growth Oslo? Hvorfor svinger aksjene s&#229; mye og hva tror markedene p&#229;?  Bli med oss og h&#248;r hvorfor Zaptec valgte Merkur og hvordan prosessen har v&#230;rt, og hvordan Oslo B&#248;rs og tilretteleggerne jobber b&#229;de nasjonalt og internasjonalt. Vi f&#229;r bes&#248;k av Anders Thingb&#248; fra Zaptec, Eirik H&#248;iby Ausland fra Oslo B&#248;rs, samt Morten Enoksen og H&#229;kon Haugsb&#248; fra ABG Sundal Collier.
LOCATION:Online
END:VEVENT


END:VCALENDAR



