
BEGIN:VCALENDAR
VERSION:2.0
PRODID:-//MarkedsPartner AS//Umbraco CMS//NO
TIMEZONE-ID:Europe/Oslo
X-WR-TIMEZONE:Europe/Oslo


BEGIN:VEVENT
UID:2ca4f23c32e44f85ade9b65a6aaa1fe5
URL:https://umbraco.naeringsforeningen.no/moeter/arkiv/martin-beck-holte-landet-som-ble-for-rikt/
ORGANIZER;CN=Ola Normann:MAILTO:ola.normann@markedspartner.no
DTSTAMP:20250317T100000Z
DTSTART:20250317T100000Z
DTEND:20250317T120000Z
LAST-MODIFIED:20250320T135816Z
SUMMARY:Martin Bech Holte: Landet som ble for rikt
DESCRIPTION:Martin Bech Holte kritiserer den norske politiske kulturen og foreslår radikale løsninger for å stimulere til økt aktivitet og velstand. Vi inviterer til lunsjmøte med suksessforfatteren bak boken «Landet som ble for rikt».
X-ALT-DESC:Martin Bech Holte kritiserer den norske politiske kulturen og foresl&#229;r radikale l&#248;sninger for &#229; stimulere til &#248;kt aktivitet og velstand. Vi inviterer til lunsjm&#248;te med suksessforfatteren bak boken &#171;Landet som ble for rikt&#187;.
LOCATION:Rosenkildehuset
END:VEVENT


END:VCALENDAR



