
BEGIN:VCALENDAR
VERSION:2.0
PRODID:-//MarkedsPartner AS//Umbraco CMS//NO
TIMEZONE-ID:Europe/Oslo
X-WR-TIMEZONE:Europe/Oslo


BEGIN:VEVENT
UID:967b043c78234392862b6be6ca78f572
URL:https://umbraco.naeringsforeningen.no/moeter/arkiv/markedsfoerer-posisjon140423/
ORGANIZER;CN=Ola Normann:MAILTO:ola.normann@markedspartner.no
DTSTAMP:20230414T090000Z
DTSTART:20230414T090000Z
DTEND:20230414T110000Z
LAST-MODIFIED:20230417T073313Z
SUMMARY:Bedrifter taper mye på å ikke involvere markedsførere i det strategiske arbeidet!
DESCRIPTION:Markedsføring er en viktig brikke i verdiskapingen til de aller fleste bedrifter, men til tross for dette blir ikke markedsførere involvert når viktige beslutninger om bedriftens fremtid tas. Hvordan skal du som markedsfører komme i posisjon i din bedrift?
X-ALT-DESC:Markedsf&#248;ring er en viktig brikke i verdiskapingen til de aller fleste bedrifter, men til tross for dette blir ikke markedsf&#248;rere involvert n&#229;r viktige beslutninger om bedriftens fremtid tas. Hvordan skal du som markedsf&#248;rer komme i posisjon i din bedrift?
LOCATION:Rosenkildehsuet
END:VEVENT


END:VCALENDAR



