
BEGIN:VCALENDAR
VERSION:2.0
PRODID:-//MarkedsPartner AS//Umbraco CMS//NO
TIMEZONE-ID:Europe/Oslo
X-WR-TIMEZONE:Europe/Oslo


BEGIN:VEVENT
UID:3886f1cc8e11449d9919119f47b28669
URL:https://umbraco.naeringsforeningen.no/moeter/arkiv/mangfoldskonferansen2022/
ORGANIZER;CN=Ola Normann:MAILTO:ola.normann@markedspartner.no
DTSTAMP:20221110T103000Z
DTSTART:20221110T103000Z
DTEND:20221110T150000Z
LAST-MODIFIED:20221110T162959Z
SUMMARY:Mangfold, pain or gain
DESCRIPTION:Forskjeller og ulikheter skaper innovasjon, nye impulser og innfallsvinkler. Veronica Simoné Fjeld, Heidi Wolden, Torben (Cathrine) Dyhr-Nielsen, Wenche Fredriksen og Rune Todnem gir deg verktøyene du trenger, for å møte et mangfoldig næringsliv!
X-ALT-DESC:Forskjeller og ulikheter skaper innovasjon, nye impulser og innfallsvinkler. Veronica Simon&#233; Fjeld, Heidi Wolden, Torben (Cathrine) Dyhr-Nielsen, Wenche Fredriksen og Rune Todnem gir deg verkt&#248;yene du trenger, for &#229; m&#248;te et mangfoldig n&#230;ringsliv!
LOCATION:Rosenkildehuset
END:VEVENT


END:VCALENDAR



