
BEGIN:VCALENDAR
VERSION:2.0
PRODID:-//MarkedsPartner AS//Umbraco CMS//NO
TIMEZONE-ID:Europe/Oslo
X-WR-TIMEZONE:Europe/Oslo


BEGIN:VEVENT
UID:2826adbc0d024d34b243a0064dea964e
URL:https://umbraco.naeringsforeningen.no/moeter/arkiv/makt-penger-fremtid-2024/
ORGANIZER;CN=Ola Normann:MAILTO:ola.normann@markedspartner.no
DTSTAMP:20240308T071500Z
DTSTART:20240308T071500Z
DTEND:20240308T124500Z
LAST-MODIFIED:20240308T143811Z
SUMMARY:Makt – penger – fremtid
DESCRIPTION:Velkommen til konferansen som setter makt, penger og fremtid på agendaen. Vi får besøk av en rekke spennende foredragsholdere, blant annet Anita Krohn Traaseth, Karl Johnny Hersvik, Sunniva Rose, Tina Bru, Hadia Tajik, Sissel Knutsen Hegdal og Benedicte Schilbred Fasmer.
X-ALT-DESC:Velkommen til konferansen som setter makt, penger og fremtid p&#229; agendaen. Vi f&#229;r bes&#248;k av en rekke spennende foredragsholdere, blant annet Anita Krohn Traaseth, Karl Johnny Hersvik, Sunniva Rose, Tina Bru, Hadia Tajik, Sissel Knutsen Hegdal og Benedicte Schilbred Fasmer.
LOCATION:Stavanger konserthus, Zetlitz
END:VEVENT


END:VCALENDAR



