
BEGIN:VCALENDAR
VERSION:2.0
PRODID:-//MarkedsPartner AS//Umbraco CMS//NO
TIMEZONE-ID:Europe/Oslo
X-WR-TIMEZONE:Europe/Oslo


BEGIN:VEVENT
UID:d60e8ef0cda04d53994246472dac3989
URL:https://umbraco.naeringsforeningen.no/moeter/arkiv/lyse_elnett_080920/
ORGANIZER;CN=Ola Normann:MAILTO:ola.normann@markedspartner.no
DTSTAMP:20200908T060000Z
DTSTART:20200908T060000Z
DTEND:20200908T080000Z
LAST-MODIFIED:20221031T113826Z
SUMMARY:Lyse Elnett: Nyhetene bygg- og anleggsbransjen må få med seg
DESCRIPTION:Anleggsbidrag, bestillinger, bygging og drift av offentlig belysning og hvordan vi kan kutte kostnader i gjennomføringsfasen av byggeprosjekter. Få med deg når Lyse Elnett kommer for å gi oss siste nytt og oppdatere oss på det alle i bygg- og anleggsbransjen trenger å vite – og ikke minst svare på spørsmål!
X-ALT-DESC:Anleggsbidrag, bestillinger, bygging og drift av offentlig belysning og hvordan vi kan kutte kostnader i gjennomf&#248;ringsfasen av byggeprosjekter. F&#229; med deg n&#229;r Lyse Elnett kommer for &#229; gi oss siste nytt og oppdatere oss p&#229; det alle i bygg- og anleggsbransjen trenger &#229; vite – og ikke minst svare p&#229; sp&#248;rsm&#229;l!
LOCATION:Rosenkildehuset
END:VEVENT


END:VCALENDAR



