
BEGIN:VCALENDAR
VERSION:2.0
PRODID:-//MarkedsPartner AS//Umbraco CMS//NO
TIMEZONE-ID:Europe/Oslo
X-WR-TIMEZONE:Europe/Oslo


BEGIN:VEVENT
UID:c86c693f69e3498fba4964a33c13e38b
URL:https://umbraco.naeringsforeningen.no/moeter/arkiv/logistikkdagen_301024/
ORGANIZER;CN=Ola Normann:MAILTO:ola.normann@markedspartner.no
DTSTAMP:20241030T070000Z
DTSTART:20241030T070000Z
DTEND:20241030T133000Z
LAST-MODIFIED:20241031T171631Z
SUMMARY:Logistikkdagen 2024: Teknologi og samarbeid
DESCRIPTION:Velkommen til den største logistikkonferansen i Rogaland! Bruk av KI i logistikk, framtidens luftfart, lean i dagligvarebransjen og det grønne skiftet – dette er temaene du vil få innsikt i under årets konferanse for transport og logistikk.
X-ALT-DESC:Velkommen til den st&#248;rste logistikkonferansen i Rogaland! Bruk av KI i logistikk, framtidens luftfart, lean i dagligvarebransjen og det gr&#248;nne skiftet – dette er temaene du vil f&#229; innsikt i under &#229;rets konferanse for transport og logistikk.
LOCATION:Quality Airport Hotel Stavanger
END:VEVENT


END:VCALENDAR



