
BEGIN:VCALENDAR
VERSION:2.0
PRODID:-//MarkedsPartner AS//Umbraco CMS//NO
TIMEZONE-ID:Europe/Oslo
X-WR-TIMEZONE:Europe/Oslo


BEGIN:VEVENT
UID:a7dfab9037844ef3b6de0d158357cc5a
URL:https://umbraco.naeringsforeningen.no/moeter/arkiv/logistikkdagen_081122/
ORGANIZER;CN=Ola Normann:MAILTO:ola.normann@markedspartner.no
DTSTAMP:20221108T071500Z
DTSTART:20221108T071500Z
DTEND:20221108T130000Z
LAST-MODIFIED:20221109T071548Z
SUMMARY:Logistikkdagen 2022
DESCRIPTION:MELD DEG PÅ! Vi gir deg de nyeste trendene og statusrapportene innen samferdsel, transport og logistikk.
X-ALT-DESC:MELD DEG P&#197;! Vi gir deg de nyeste trendene og statusrapportene innen samferdsel, transport og logistikk.
LOCATION:Scandic Forus
END:VEVENT


END:VCALENDAR



