
BEGIN:VCALENDAR
VERSION:2.0
PRODID:-//MarkedsPartner AS//Umbraco CMS//NO
TIMEZONE-ID:Europe/Oslo
X-WR-TIMEZONE:Europe/Oslo


BEGIN:VEVENT
UID:a189fd35dfbc45c8bd1f5c0d04726dd4
URL:https://umbraco.naeringsforeningen.no/moeter/arkiv/logistikkdagen2020/
ORGANIZER;CN=Ola Normann:MAILTO:ola.normann@markedspartner.no
DTSTAMP:20201110T080000Z
DTSTART:20201110T080000Z
DTEND:20201110T141500Z
LAST-MODIFIED:20221031T115212Z
SUMMARY:Logistikkdagen 2020: Utfordringer og muligheter
DESCRIPTION:Logistikkdagen er den største årlige møteplassen i regionen for alle som er opptatt av samferdsel og logistikk. Kom og opplev et variert og hyperaktuelt program!
X-ALT-DESC:Logistikkdagen er den st&#248;rste &#229;rlige m&#248;teplassen i regionen for alle som er opptatt av samferdsel og logistikk. Kom og opplev et variert og hyperaktuelt program!
LOCATION:Scandic Forus
END:VEVENT


END:VCALENDAR



