
BEGIN:VCALENDAR
VERSION:2.0
PRODID:-//MarkedsPartner AS//Umbraco CMS//NO
TIMEZONE-ID:Europe/Oslo
X-WR-TIMEZONE:Europe/Oslo


BEGIN:VEVENT
UID:e7767e2513464f2fb0d6bad90316b85f
URL:https://umbraco.naeringsforeningen.no/moeter/arkiv/logistikkdagen-2023_071123/
ORGANIZER;CN=Ola Normann:MAILTO:ola.normann@markedspartner.no
DTSTAMP:20231107T071500Z
DTSTART:20231107T071500Z
DTEND:20231107T133000Z
LAST-MODIFIED:20231108T093950Z
SUMMARY:Logistikkdagen 2023
DESCRIPTION:Med fokus på Nasjonal Transportplan vil vi diskutere problemstillingen rundt viktig infrastruktur i regionen sammen med aktuelle politikere. Vi tar også opp diskusjonen rundt fremtidige drivstoff og hvordan vi kan få mer gods fra vei til sjø.
X-ALT-DESC:Med fokus p&#229; Nasjonal Transportplan vil vi diskutere problemstillingen rundt viktig infrastruktur i regionen sammen med aktuelle politikere. Vi tar ogs&#229; opp diskusjonen rundt fremtidige drivstoff og hvordan vi kan f&#229; mer gods fra vei til sj&#248;.
LOCATION:Quality Hotel Residence, Sandnes
END:VEVENT


END:VCALENDAR



