
BEGIN:VCALENDAR
VERSION:2.0
PRODID:-//MarkedsPartner AS//Umbraco CMS//NO
TIMEZONE-ID:Europe/Oslo
X-WR-TIMEZONE:Europe/Oslo


BEGIN:VEVENT
UID:b15b348654524c988220323b0d034f95
URL:https://umbraco.naeringsforeningen.no/moeter/arkiv/logistikkdagen-2020-streaming/
ORGANIZER;CN=Ola Normann:MAILTO:ola.normann@markedspartner.no
DTSTAMP:20201110T080000Z
DTSTART:20201110T080000Z
DTEND:20201110T141500Z
LAST-MODIFIED:20221031T115217Z
SUMMARY:Logistikkdagen 2020: STREAMING
DESCRIPTION:Logistikkdagen er den største årlige møteplassen i regionen  for alle som er opptatt av samferdsel og logistikk. Kom og opplev et variert og hyperaktuelt program!
X-ALT-DESC:Logistikkdagen er den st&#248;rste &#229;rlige m&#248;teplassen i regionen  for alle som er opptatt av samferdsel og logistikk. Kom og opplev et variert og hyperaktuelt program!
LOCATION:Streaming
END:VEVENT


END:VCALENDAR



