
BEGIN:VCALENDAR
VERSION:2.0
PRODID:-//MarkedsPartner AS//Umbraco CMS//NO
TIMEZONE-ID:Europe/Oslo
X-WR-TIMEZONE:Europe/Oslo


BEGIN:VEVENT
UID:45021d007ce74ab791c7c638105e1263
URL:https://umbraco.naeringsforeningen.no/moeter/arkiv/logistikkdagen-2019/
ORGANIZER;CN=Ola Normann:MAILTO:ola.normann@markedspartner.no
DTSTAMP:20191112T080000Z
DTSTART:20191112T080000Z
DTEND:20191112T144500Z
LAST-MODIFIED:20221031T114150Z
SUMMARY:Logistikkdagen 2019
DESCRIPTION:Logistikkdagen er den største årlige møteplassen for alle som er opptatt av samferdsel, transport og logistikk.
X-ALT-DESC:Logistikkdagen er den st&#248;rste &#229;rlige m&#248;teplassen for alle som er opptatt av samferdsel, transport og logistikk.
LOCATION:Scandic Forus
END:VEVENT


END:VCALENDAR



