
BEGIN:VCALENDAR
VERSION:2.0
PRODID:-//MarkedsPartner AS//Umbraco CMS//NO
TIMEZONE-ID:Europe/Oslo
X-WR-TIMEZONE:Europe/Oslo


BEGIN:VEVENT
UID:a630ac15b22d454e934dce1ac98a7907
URL:https://umbraco.naeringsforeningen.no/moeter/arkiv/linkedin1/
ORGANIZER;CN=Ola Normann:MAILTO:ola.normann@markedspartner.no
DTSTAMP:20210520T110000Z
DTSTART:20210520T110000Z
DTEND:20210520T123000Z
LAST-MODIFIED:20221031T121720Z
SUMMARY:Hvordan skape suksess på LinkedIn med godt innhold?
DESCRIPTION:Bli bedre på hvordan du bruker LinkedIn! Lær hva du bør publisere og hvordan det bør se ut.
X-ALT-DESC:Bli bedre p&#229; hvordan du bruker LinkedIn! L&#230;r hva du b&#248;r publisere og hvordan det b&#248;r se ut.
LOCATION:Online
END:VEVENT


END:VCALENDAR



