
BEGIN:VCALENDAR
VERSION:2.0
PRODID:-//MarkedsPartner AS//Umbraco CMS//NO
TIMEZONE-ID:Europe/Oslo
X-WR-TIMEZONE:Europe/Oslo


BEGIN:VEVENT
UID:280bd7ef4b004add9f63dc747e2de126
URL:https://umbraco.naeringsforeningen.no/moeter/arkiv/linkedin/
ORGANIZER;CN=Ola Normann:MAILTO:ola.normann@markedspartner.no
DTSTAMP:20210210T100000Z
DTSTART:20210210T100000Z
DTEND:20210210T120000Z
LAST-MODIFIED:20221031T120425Z
SUMMARY:Øk bedriftens synlighet på Linkedin med dine ansatte
DESCRIPTION:UTSATT! Å være aktiv på Linkedin betyr ikke lengre at du er jobbsøker. Det er nesten tvert imot. En aktiv Linkedin-bruker representerer sitt eget fag og kompetanse, og bedriften han eller hun jobber for.
X-ALT-DESC:UTSATT! &#197; v&#230;re aktiv p&#229; Linkedin betyr ikke lengre at du er jobbs&#248;ker. Det er nesten tvert imot. En aktiv Linkedin-bruker representerer sitt eget fag og kompetanse, og bedriften han eller hun jobber for.
LOCATION:Rosenkildehuset
END:VEVENT


END:VCALENDAR



