
BEGIN:VCALENDAR
VERSION:2.0
PRODID:-//MarkedsPartner AS//Umbraco CMS//NO
TIMEZONE-ID:Europe/Oslo
X-WR-TIMEZONE:Europe/Oslo


BEGIN:VEVENT
UID:9cb8b07d466b466f9e5b4f12f77090a3
URL:https://umbraco.naeringsforeningen.no/moeter/arkiv/linkedin-kurs-mars-2022/
ORGANIZER;CN=Ola Normann:MAILTO:ola.normann@markedspartner.no
DTSTAMP:20220325T100000Z
DTSTART:20220325T100000Z
DTEND:20220325T110000Z
LAST-MODIFIED:20221031T122639Z
SUMMARY:LinkedIn profil som gjør deg synlig
DESCRIPTION:Digitalkonferanse: Med en bevisst personlig merkevarebygging på LinkedIn kan du skaffe deg den riktige jobben, styrevervet eller nye kontakter for fremtidig business.
X-ALT-DESC:Digitalkonferanse: Med en bevisst personlig merkevarebygging p&#229; LinkedIn kan du skaffe deg den riktige jobben, styrevervet eller nye kontakter for fremtidig business.
LOCATION:Digitalkonferanse
END:VEVENT


END:VCALENDAR



