
BEGIN:VCALENDAR
VERSION:2.0
PRODID:-//MarkedsPartner AS//Umbraco CMS//NO
TIMEZONE-ID:Europe/Oslo
X-WR-TIMEZONE:Europe/Oslo


BEGIN:VEVENT
UID:24c1d76136f04820afe2bd43f4d61201
URL:https://umbraco.naeringsforeningen.no/moeter/arkiv/leverandoermoete_250620/
ORGANIZER;CN=Ola Normann:MAILTO:ola.normann@markedspartner.no
DTSTAMP:20200625T063000Z
DTSTART:20200625T063000Z
DTEND:20200625T093000Z
LAST-MODIFIED:20221031T121525Z
SUMMARY:Disse oppdragene venter i olje- og gassindustrien
DESCRIPTION:Nå kommer oppdragene for leverandørindustrien! Kom og hør Equinor, Vår Energi, Aker BP og de andre når de presenterer sine konkrete framtidige oppdrag og hva dette vil bety.
X-ALT-DESC:N&#229; kommer oppdragene for leverand&#248;rindustrien! Kom og h&#248;r Equinor, V&#229;r Energi, Aker BP og de andre n&#229;r de presenterer sine konkrete framtidige oppdrag og hva dette vil bety.
LOCATION:Clarion Hotel Stavanger
END:VEVENT


END:VCALENDAR



