
BEGIN:VCALENDAR
VERSION:2.0
PRODID:-//MarkedsPartner AS//Umbraco CMS//NO
TIMEZONE-ID:Europe/Oslo
X-WR-TIMEZONE:Europe/Oslo


BEGIN:VEVENT
UID:ca1753034a7c45ffaa6d167b1730d727
URL:https://umbraco.naeringsforeningen.no/moeter/arkiv/leverandoermoete-equinor_310822/
ORGANIZER;CN=Ola Normann:MAILTO:ola.normann@markedspartner.no
DTSTAMP:20220831T120000Z
DTSTART:20220831T120000Z
DTEND:20220831T140000Z
LAST-MODIFIED:20221031T121132Z
SUMMARY:Leverandørmøte: Equinor
DESCRIPTION:Lær mer om Equinors aktiviteter på norsk sokkel, prosjekter og fornybar energi. Målgruppen er bedrifter som leverer direkte tjenester til selskapet.
X-ALT-DESC:L&#230;r mer om Equinors aktiviteter p&#229; norsk sokkel, prosjekter og fornybar energi. M&#229;lgruppen er bedrifter som leverer direkte tjenester til selskapet.
LOCATION:Scandic Forus?
END:VEVENT


END:VCALENDAR



