
BEGIN:VCALENDAR
VERSION:2.0
PRODID:-//MarkedsPartner AS//Umbraco CMS//NO
TIMEZONE-ID:Europe/Oslo
X-WR-TIMEZONE:Europe/Oslo


BEGIN:VEVENT
UID:2ffa9dc84c474a0bab2c6367b5fbe0e9
URL:https://umbraco.naeringsforeningen.no/moeter/arkiv/leverandoermoete-equinor/
ORGANIZER;CN=Ola Normann:MAILTO:ola.normann@markedspartner.no
DTSTAMP:20190903T063000Z
DTSTART:20190903T063000Z
DTEND:20190903T110000Z
LAST-MODIFIED:20221031T113416Z
SUMMARY:Leverandørmøte: Equinor
DESCRIPTION:Lær mer om Equinors aktiviteter på norsk sokkel, prosjekter og fornybar energi. Målgruppen er bedrifter som leverer direkte tjenester til selskapet.
X-ALT-DESC:L&#230;r mer om Equinors aktiviteter p&#229; norsk sokkel, prosjekter og fornybar energi. M&#229;lgruppen er bedrifter som leverer direkte tjenester til selskapet.
LOCATION:Scandic Forus
END:VEVENT


END:VCALENDAR



