
BEGIN:VCALENDAR
VERSION:2.0
PRODID:-//MarkedsPartner AS//Umbraco CMS//NO
TIMEZONE-ID:Europe/Oslo
X-WR-TIMEZONE:Europe/Oslo


BEGIN:VEVENT
UID:3d987c54a9ba4caba6ad4c02615ce849
URL:https://umbraco.naeringsforeningen.no/moeter/arkiv/leverandoerjobbene-paa-norsk-sokkel-2021_180221/
ORGANIZER;CN=Ola Normann:MAILTO:ola.normann@markedspartner.no
DTSTAMP:20210218T100000Z
DTSTART:20210218T100000Z
DTEND:20210218T114500Z
LAST-MODIFIED:20221031T120533Z
SUMMARY:Leverandøroppdrag i kø 
DESCRIPTION:DIGITALKONFERANSE: Rundt 30 nye utbyggingsprosjekter på norsk sokkel modnes nå fram for beslutning innen utløpet av 2022. Det kan gi en ny prosjektportefølje innen olje og gass på over 300 milliarder kroner de neste årene. Næringsforeningen ønsker at Rogalands-industrien skal kunne posisjonere seg for en høyest mulig andel av kontraktene, og ønsker velkommen til et møte for en gjennomgang av samtlige prosjekt.
X-ALT-DESC:DIGITALKONFERANSE: Rundt 30 nye utbyggingsprosjekter p&#229; norsk sokkel modnes n&#229; fram for beslutning innen utl&#248;pet av 2022. Det kan gi en ny prosjektportef&#248;lje innen olje og gass p&#229; over 300 milliarder kroner de neste &#229;rene. N&#230;ringsforeningen &#248;nsker at Rogalands-industrien skal kunne posisjonere seg for en h&#248;yest mulig andel av kontraktene, og &#248;nsker velkommen til et m&#248;te for en gjennomgang av samtlige prosjekt.
LOCATION:Digital konferanse
END:VEVENT


END:VCALENDAR



