
BEGIN:VCALENDAR
VERSION:2.0
PRODID:-//MarkedsPartner AS//Umbraco CMS//NO
TIMEZONE-ID:Europe/Oslo
X-WR-TIMEZONE:Europe/Oslo


BEGIN:VEVENT
UID:3570ab22d3984facaef702dc75ea13f6
URL:https://umbraco.naeringsforeningen.no/moeter/arkiv/lederskolen_310524/
ORGANIZER;CN=Ola Normann:MAILTO:ola.normann@markedspartner.no
DTSTAMP:20240426T074500Z
DTSTART:20240426T074500Z
DTEND:20240426T110000Z
LAST-MODIFIED:20240426T144906Z
SUMMARY:Lederskolen: Tre tips for godt samarbeid på arbeidsplassen
DESCRIPTION:Et effektivt samarbeid er ikke bare essensielt for å nå målene, men det kan skape et triveligere og mer produktivt arbeidsmiljø. Kjersti Berge Evensen har identifisert tre sentrale tips som kan hjelpe deg med å styrke samarbeidet og oppnå suksess som et team. Bli med på denne samlingen på Lederskolen 26. april og lær mer!
X-ALT-DESC:Et effektivt samarbeid er ikke bare essensielt for &#229; n&#229; m&#229;lene, men det kan skape et triveligere og mer produktivt arbeidsmilj&#248;. Kjersti Berge Evensen har identifisert tre sentrale tips som kan hjelpe deg med &#229; styrke samarbeidet og oppn&#229; suksess som et team. Bli med p&#229; denne samlingen p&#229; Lederskolen 26. april og l&#230;r mer!
LOCATION:BI Stavanger, Byfjordparken 17. 
END:VEVENT


END:VCALENDAR



