
BEGIN:VCALENDAR
VERSION:2.0
PRODID:-//MarkedsPartner AS//Umbraco CMS//NO
TIMEZONE-ID:Europe/Oslo
X-WR-TIMEZONE:Europe/Oslo


BEGIN:VEVENT
UID:f562ddb3dea34f0d86f9ef27aff36bbb
URL:https://umbraco.naeringsforeningen.no/moeter/arkiv/lederskolen_310125/
ORGANIZER;CN=Ola Normann:MAILTO:ola.normann@markedspartner.no
DTSTAMP:20250131T084500Z
DTSTART:20250131T084500Z
DTEND:20250131T120000Z
LAST-MODIFIED:20250203T065632Z
SUMMARY:Lederskolen: Nøkler til bedre beslutninger
DESCRIPTION:Beslutningstaking er en avgjørende ferdighet, og vi vet at det ikke alltid er så enkelt som det kan høres ut. I denne samlingen får vi presentert de viktigste prinsippene for å ta gode beslutninger, og verktøy som kan hjelpe ledere til å ta riktige valg. Begge foreleserne underviser på Executive master og management programmet «Teamledelse».
X-ALT-DESC:Beslutningstaking er en avgj&#248;rende ferdighet, og vi vet at det ikke alltid er s&#229; enkelt som det kan h&#248;res ut. I denne samlingen f&#229;r vi presentert de viktigste prinsippene for &#229; ta gode beslutninger, og verkt&#248;y som kan hjelpe ledere til &#229; ta riktige valg. Begge foreleserne underviser p&#229; Executive master og management programmet &#171;Teamledelse&#187;.
LOCATION:BI Stavanger, Byfjordparken 17. 
END:VEVENT


END:VCALENDAR



