
BEGIN:VCALENDAR
VERSION:2.0
PRODID:-//MarkedsPartner AS//Umbraco CMS//NO
TIMEZONE-ID:Europe/Oslo
X-WR-TIMEZONE:Europe/Oslo


BEGIN:VEVENT
UID:ac2b69c37119470f8dd59e09998835d6
URL:https://umbraco.naeringsforeningen.no/moeter/arkiv/lederskolen_291124/
ORGANIZER;CN=Ola Normann:MAILTO:ola.normann@markedspartner.no
DTSTAMP:20241129T084500Z
DTSTART:20241129T084500Z
DTEND:20241129T120000Z
LAST-MODIFIED:20241202T090632Z
SUMMARY:Lederskolen: Effektiv ledelse av team
DESCRIPTION:Hvordan kan ulikheter i team bli en beslutnings- og forbedringskraft?
På Lederskolen denne gang vil Irene Grastveit ha fokus på effektive lederteam, og hvordan en gjennom å bli systematisk kjent profesjonelt kan få forskjellighet heldig i spill, og gjennom det få økt kvalitet på beslutninger og innovative prosesser.
X-ALT-DESC:Hvordan kan ulikheter i team bli en beslutnings- og forbedringskraft?
P&#229; Lederskolen denne gang vil Irene Grastveit ha fokus p&#229; effektive lederteam, og hvordan en gjennom &#229; bli systematisk kjent profesjonelt kan f&#229; forskjellighet heldig i spill, og gjennom det f&#229; &#248;kt kvalitet p&#229; beslutninger og innovative prosesser.
LOCATION:BI Stavanger, Byfjordparken 17. 
END:VEVENT


END:VCALENDAR



