
BEGIN:VCALENDAR
VERSION:2.0
PRODID:-//MarkedsPartner AS//Umbraco CMS//NO
TIMEZONE-ID:Europe/Oslo
X-WR-TIMEZONE:Europe/Oslo


BEGIN:VEVENT
UID:c0fd1562aecc410a8384e3480853dbd9
URL:https://umbraco.naeringsforeningen.no/moeter/arkiv/lederskolen_290923/
ORGANIZER;CN=Ola Normann:MAILTO:ola.normann@markedspartner.no
DTSTAMP:20230929T074500Z
DTSTART:20230929T074500Z
DTEND:20230929T110000Z
LAST-MODIFIED:20231002T091148Z
SUMMARY:Lederskolen: Ledelse på lag med kunstig intelligens
DESCRIPTION:Alle ledere forbereder seg på en ny hverdag med kunstig intelligens. Nå får du svarene for hvordan mennesker og kunstig intelligens (AI) løser problemer sammen. BI-foredragsholder Vegard Kolbjørnsrud gir deg verktøyene du trenger.
X-ALT-DESC:Alle ledere forbereder seg p&#229; en ny hverdag med kunstig intelligens. N&#229; f&#229;r du svarene for hvordan mennesker og kunstig intelligens (AI) l&#248;ser problemer sammen. BI-foredragsholder Vegard Kolbj&#248;rnsrud&#160;gir deg verkt&#248;yene du trenger.
LOCATION:BI Stavanger, Byfjordparken 17. 
END:VEVENT


END:VCALENDAR



