
BEGIN:VCALENDAR
VERSION:2.0
PRODID:-//MarkedsPartner AS//Umbraco CMS//NO
TIMEZONE-ID:Europe/Oslo
X-WR-TIMEZONE:Europe/Oslo


BEGIN:VEVENT
UID:eb3f446bfd6642de984dcdf718532fa3
URL:https://umbraco.naeringsforeningen.no/moeter/arkiv/lederskolen_280122_streaming/
ORGANIZER;CN=Ola Normann:MAILTO:ola.normann@markedspartner.no
DTSTAMP:20220128T100000Z
DTSTART:20220128T100000Z
DTEND:20220128T120000Z
LAST-MODIFIED:20221031T123042Z
SUMMARY:Lederskolen: Slik gjør du virksomheten bærekraftig (streaming)
DESCRIPTION:DIGITALKONFERANSE: Bærekraft er en nøkkel til suksess. Hvorfor er CSR så viktig? Og hvordan lykkes med samfunnsansvar i næringslivet? Professor Caroline Ditlev-Simonsen viser deg steg for steg hvordan du kan tilnærme deg ditt samfunnsansvar på en bærekraftig måte.
X-ALT-DESC:DIGITALKONFERANSE: B&#230;rekraft er en n&#248;kkel til suksess. Hvorfor er CSR s&#229; viktig? Og hvordan lykkes med samfunnsansvar i n&#230;ringslivet? Professor Caroline Ditlev-Simonsen viser deg steg for steg hvordan du kan tiln&#230;rme deg ditt samfunnsansvar p&#229; en b&#230;rekraftig m&#229;te.
LOCATION:online
END:VEVENT


END:VCALENDAR



